BEGIN:VCALENDAR
VERSION:2.0
PRODID:-//hacksw/handcal//NONSGML v1.0//EN
CALSCALE:GREGORIAN
BEGIN:VEVENT
LOCATION:
DESCRIPTION:
DTSTART:20231123T000000Z
DTEND:20231123T000000Z
SUMMARY:Thanksgiving/Legal School Holiday
URL;VALUE=URI:https://sd206.org/event/thanksgiving-legal-school-holiday-4/
DTSTAMP:20260419T140559Z
UID:69e4e147ebd9f
END:VEVENT
END:VCALENDAR