BEGIN:VCALENDAR
VERSION:2.0
PRODID:-//hacksw/handcal//NONSGML v1.0//EN
CALSCALE:GREGORIAN
BEGIN:VEVENT
LOCATION:
DESCRIPTION:
DTSTART:20200817T000000Z
DTEND:20200817T000000Z
SUMMARY:Students Begin Remote Learning
URL;VALUE=URI:https://sd206.org/event/students-begin-remote-learning/
DTSTAMP:20260423T013150Z
UID:69e976865fc95
END:VEVENT
END:VCALENDAR