BEGIN:VCALENDAR
VERSION:2.0
PRODID:-//hacksw/handcal//NONSGML v1.0//EN
CALSCALE:GREGORIAN
BEGIN:VEVENT
LOCATION:
DESCRIPTION:
DTSTART:20260501T000000Z
DTEND:20260501T000000Z
SUMMARY:Non-Attendance Day
URL;VALUE=URI:https://sd206.org/event/non-attendance-day-97/
DTSTAMP:20260423T223149Z
UID:69ea9dd583cfe
END:VEVENT
END:VCALENDAR