BEGIN:VCALENDAR
VERSION:2.0
PRODID:-//hacksw/handcal//NONSGML v1.0//EN
CALSCALE:GREGORIAN
BEGIN:VEVENT
LOCATION:
DESCRIPTION:
DTSTART:20230320T000000Z
DTEND:20230320T000000Z
SUMMARY:Non-Attendance Day
URL;VALUE=URI:https://sd206.org/event/non-attendance-day-69/
DTSTAMP:20260424T043933Z
UID:69eaf405e1416
END:VEVENT
END:VCALENDAR