BEGIN:VCALENDAR
VERSION:2.0
PRODID:-//hacksw/handcal//NONSGML v1.0//EN
CALSCALE:GREGORIAN
BEGIN:VEVENT
LOCATION:
DESCRIPTION:
DTSTART:20250421T000000Z
DTEND:20250421T000000Z
SUMMARY:No School - Non-Attendance Day
URL;VALUE=URI:https://sd206.org/event/no-school-non-attendance-day-11/
DTSTAMP:20260420T133927Z
UID:69e62c8f9df6c
END:VEVENT
END:VCALENDAR