BEGIN:VCALENDAR
VERSION:2.0
PRODID:-//hacksw/handcal//NONSGML v1.0//EN
CALSCALE:GREGORIAN
BEGIN:VEVENT
LOCATION:
DESCRIPTION:
DTSTART:20250418T000000Z
DTEND:20250418T000000Z
SUMMARY:No School - Non-Attendance Day
URL;VALUE=URI:https://sd206.org/event/no-school-non-attendance-day-10/
DTSTAMP:20260421T063335Z
UID:69e71a3f45962
END:VEVENT
END:VCALENDAR