BEGIN:VCALENDAR
VERSION:2.0
PRODID:-//hacksw/handcal//NONSGML v1.0//EN
CALSCALE:GREGORIAN
BEGIN:VEVENT
LOCATION:
DESCRIPTION:
DTSTART:20200218T000000Z
DTEND:20200218T000000Z
SUMMARY:Lunch
URL;VALUE=URI:https://sd206.org/event/lunch-244/
DTSTAMP:20260419T231706Z
UID:69e562725ef12
END:VEVENT
END:VCALENDAR