BEGIN:VCALENDAR
VERSION:2.0
PRODID:-//hacksw/handcal//NONSGML v1.0//EN
CALSCALE:GREGORIAN
BEGIN:VEVENT
LOCATION:
DESCRIPTION:
DTSTART:20260422T000000Z
DTEND:20260422T000000Z
SUMMARY:Late Start - 9:50 AM
URL;VALUE=URI:https://sd206.org/event/late-start-950-am-31/
DTSTAMP:20260423T142554Z
UID:69ea2bf214691
END:VEVENT
END:VCALENDAR