BEGIN:VCALENDAR
VERSION:2.0
PRODID:-//hacksw/handcal//NONSGML v1.0//EN
CALSCALE:GREGORIAN
BEGIN:VEVENT
LOCATION:
DESCRIPTION:
DTSTART:20250226T145000Z
DTEND:20250226T155000Z
SUMMARY:Late Start- 1st Period Begins 9:50
URL;VALUE=URI:https://sd206.org/event/late-start-1st-period-begins-950-16/
DTSTAMP:20260421T005654Z
UID:69e6cb5637220
END:VEVENT
END:VCALENDAR