BEGIN:VCALENDAR
VERSION:2.0
PRODID:-//hacksw/handcal//NONSGML v1.0//EN
CALSCALE:GREGORIAN
BEGIN:VEVENT
LOCATION:
DESCRIPTION:
DTSTART:20241120T145000Z
DTEND:20241120T155000Z
SUMMARY:Late Start- 1st Period Begins 9:50
URL;VALUE=URI:https://sd206.org/event/late-start-1st-period-begins-950-13/
DTSTAMP:20260420T113919Z
UID:69e61067e9e6e
END:VEVENT
END:VCALENDAR