BEGIN:VCALENDAR
VERSION:2.0
PRODID:-//hacksw/handcal//NONSGML v1.0//EN
CALSCALE:GREGORIAN
BEGIN:VEVENT
LOCATION:
DESCRIPTION:
DTSTART:20220905T000000Z
DTEND:20220905T000000Z
SUMMARY:Labor Day/Legal School Holiday
URL;VALUE=URI:https://sd206.org/event/labor-day-legal-school-holiday/
DTSTAMP:20260421T070126Z
UID:69e720c6dc69b
END:VEVENT
END:VCALENDAR