BEGIN:VCALENDAR
VERSION:2.0
PRODID:-//hacksw/handcal//NONSGML v1.0//EN
CALSCALE:GREGORIAN
BEGIN:VEVENT
LOCATION:
DESCRIPTION:
DTSTART:20230619T000000Z
DTEND:20230619T000000Z
SUMMARY:Juneteenth/Legal School Holiday
URL;VALUE=URI:https://sd206.org/event/juneteenth-legal-school-holiday/
DTSTAMP:20260424T031059Z
UID:69eadf438c88e
END:VEVENT
END:VCALENDAR