BEGIN:VCALENDAR
VERSION:2.0
PRODID:-//hacksw/handcal//NONSGML v1.0//EN
CALSCALE:GREGORIAN
BEGIN:VEVENT
LOCATION:
DESCRIPTION:
DTSTART:20240619T000000Z
DTEND:20240619T000000Z
SUMMARY:Juneteenth/Legal School Holiday
URL;VALUE=URI:https://sd206.org/event/juneteenth-legal-school-holiday-4/
DTSTAMP:20260421T084820Z
UID:69e739d438e1a
END:VEVENT
END:VCALENDAR