BEGIN:VCALENDAR
VERSION:2.0
PRODID:-//hacksw/handcal//NONSGML v1.0//EN
CALSCALE:GREGORIAN
BEGIN:VEVENT
LOCATION:
DESCRIPTION:
DTSTART:20260526T000000Z
DTEND:20260528T000000Z
SUMMARY:Final Exams / Early Release (11:05 AM) - All Schools
URL;VALUE=URI:https://sd206.org/event/final-exams-early-release-1100-am-all-schools/
DTSTAMP:20260421T185624Z
UID:69e7c8582a0ca
END:VEVENT
END:VCALENDAR