BEGIN:VCALENDAR
VERSION:2.0
PRODID:-//hacksw/handcal//NONSGML v1.0//EN
CALSCALE:GREGORIAN
BEGIN:VEVENT
LOCATION:
DESCRIPTION:
DTSTART:20200115T000000Z
DTEND:20200115T000000Z
SUMMARY:Early Release - Dismissal 12:20 pm
URL;VALUE=URI:https://sd206.org/event/early-release-dismissal-1220-pm-15/
DTSTAMP:20260419T192252Z
UID:69e52b8c90d9e
END:VEVENT
END:VCALENDAR