BEGIN:VCALENDAR
VERSION:2.0
PRODID:-//hacksw/handcal//NONSGML v1.0//EN
CALSCALE:GREGORIAN
BEGIN:VEVENT
LOCATION:
DESCRIPTION:
DTSTART:20250518T000000Z
DTEND:20250518T000000Z
SUMMARY:Commencement
URL;VALUE=URI:https://sd206.org/event/commencement-2/
DTSTAMP:20260425T175231Z
UID:69ecff5f1a701
END:VEVENT
END:VCALENDAR