BEGIN:VCALENDAR
VERSION:2.0
PRODID:-//hacksw/handcal//NONSGML v1.0//EN
CALSCALE:GREGORIAN
BEGIN:VEVENT
LOCATION:
DESCRIPTION:
DTSTART:20221010T000000Z
DTEND:20221010T000000Z
SUMMARY:Columbus Day/Legal School Holiday
URL;VALUE=URI:https://sd206.org/event/columbus-day-legal-school-holiday/
DTSTAMP:20260422T174753Z
UID:69e909c91e8f3
END:VEVENT
END:VCALENDAR