BEGIN:VCALENDAR
VERSION:2.0
PRODID:-//hacksw/handcal//NONSGML v1.0//EN
CALSCALE:GREGORIAN
BEGIN:VEVENT
LOCATION:100 W 10th St\, Chicago Heights\, IL 60411\, USA
DESCRIPTION:
DTSTART:20230417T230000Z
DTEND:20230418T000000Z
SUMMARY:Board of Education Meeting
URL;VALUE=URI:https://sd206.org/event/board-of-education-meeting-82/
DTSTAMP:20260421T101454Z
UID:69e74e1e36f26
END:VEVENT
END:VCALENDAR