BEGIN:VCALENDAR
VERSION:2.0
PRODID:-//hacksw/handcal//NONSGML v1.0//EN
CALSCALE:GREGORIAN
BEGIN:VEVENT
LOCATION:100 W 10th St\, Chicago Heights\, IL 60411\, USA
DESCRIPTION:
DTSTART:20240226T230000Z
DTEND:20240227T000000Z
SUMMARY:Board of Education Meeting
URL;VALUE=URI:https://sd206.org/event/board-of-education-meeting-80/
DTSTAMP:20260421T075529Z
UID:69e72d7168de1
END:VEVENT
END:VCALENDAR