BEGIN:VCALENDAR
VERSION:2.0
PRODID:-//hacksw/handcal//NONSGML v1.0//EN
CALSCALE:GREGORIAN
BEGIN:VEVENT
LOCATION:100 W 10th St\, Chicago Heights\, IL 60411\, USA
DESCRIPTION:
DTSTART:20220919T230000Z
DTEND:20220920T000000Z
SUMMARY:Board of Education Meeting
URL;VALUE=URI:https://sd206.org/event/board-of-education-meeting-35/
DTSTAMP:20260426T013107Z
UID:69ed6adb5b316
END:VEVENT
END:VCALENDAR