BEGIN:VCALENDAR
VERSION:2.0
PRODID:-//hacksw/handcal//NONSGML v1.0//EN
CALSCALE:GREGORIAN
BEGIN:VEVENT
LOCATION:100 W 10th St\, Chicago Heights\, IL 60411\, USA
DESCRIPTION:
DTSTART:20211220T230000Z
DTEND:20211221T000000Z
SUMMARY:Board of Education Meeting
URL;VALUE=URI:https://sd206.org/event/board-of-education-meeting-26/
DTSTAMP:20260419T145002Z
UID:69e4eb9a738fa
END:VEVENT
END:VCALENDAR