BEGIN:VCALENDAR
VERSION:2.0
PRODID:-//hacksw/handcal//NONSGML v1.0//EN
CALSCALE:GREGORIAN
BEGIN:VEVENT
LOCATION:
DESCRIPTION:
DTSTART:20200524T000000Z
DTEND:20200524T000000Z
SUMMARY:Bloom Trail Graduation 11am
URL;VALUE=URI:https://sd206.org/event/bloom-trail-graduation-3-pm/
DTSTAMP:20260423T210544Z
UID:69ea89a884d88
END:VEVENT
END:VCALENDAR