BEGIN:VCALENDAR
VERSION:2.0
PRODID:-//hacksw/handcal//NONSGML v1.0//EN
CALSCALE:GREGORIAN
BEGIN:VEVENT
LOCATION:
DESCRIPTION:
DTSTART:20210224T000000Z
DTEND:20210224T000000Z
SUMMARY:Asynchronous Wednesday
URL;VALUE=URI:https://sd206.org/event/asynchronous-wednesday-17/
DTSTAMP:20260421T151510Z
UID:69e7947e2b58b
END:VEVENT
END:VCALENDAR