BEGIN:VCALENDAR
VERSION:2.0
PRODID:-//hacksw/handcal//NONSGML v1.0//EN
CALSCALE:GREGORIAN
BEGIN:VEVENT
LOCATION:
DESCRIPTION:
DTSTART:20210217T000000Z
DTEND:20210217T000000Z
SUMMARY:Asynchronous Wednesday
URL;VALUE=URI:https://sd206.org/event/asynchronous-wednesday-16/
DTSTAMP:20260423T235648Z
UID:69eab1c0ea0a3
END:VEVENT
END:VCALENDAR