BEGIN:VCALENDAR
VERSION:2.0
PRODID:-//hacksw/handcal//NONSGML v1.0//EN
CALSCALE:GREGORIAN
BEGIN:VEVENT
LOCATION:
DESCRIPTION:
DTSTART:20210203T000000Z
DTEND:20210203T000000Z
SUMMARY:Asynchronous Wednesday
URL;VALUE=URI:https://sd206.org/event/asynchronous-wednesday-14/
DTSTAMP:20260423T092618Z
UID:69e9e5ba6e8ca
END:VEVENT
END:VCALENDAR