BEGIN:VCALENDAR
VERSION:2.0
PRODID:-//hacksw/handcal//NONSGML v1.0//EN
CALSCALE:GREGORIAN
BEGIN:VEVENT
LOCATION:
DESCRIPTION:
DTSTART:20260504T000000Z
DTEND:20260504T000000Z
SUMMARY:AP Exams
URL;VALUE=URI:https://sd206.org/event/ap-exams-11/
DTSTAMP:20260423T223725Z
UID:69ea9f250cc21
END:VEVENT
END:VCALENDAR